BEGIN:VCALENDAR
VERSION:2.0
PRODID:-//BFW Landesverband Niedersachsen/Bremen e.V. - ECPv5.0.2.1//NONSGML v1.0//EN
CALSCALE:GREGORIAN
METHOD:PUBLISH
X-WR-CALNAME:BFW Landesverband Niedersachsen/Bremen e.V.
X-ORIGINAL-URL:https://www.bfw-nb.de
X-WR-CALDESC:Veranstaltungen für BFW Landesverband Niedersachsen/Bremen e.V.
BEGIN:VTIMEZONE
TZID:Europe/Berlin
BEGIN:DAYLIGHT
TZOFFSETFROM:+0100
TZOFFSETTO:+0200
TZNAME:CEST
DTSTART:20190331T010000
END:DAYLIGHT
BEGIN:STANDARD
TZOFFSETFROM:+0200
TZOFFSETTO:+0100
TZNAME:CET
DTSTART:20191027T010000
END:STANDARD
END:VTIMEZONE
BEGIN:VEVENT
DTSTART;TZID=Europe/Berlin:20191007T090000
DTEND;TZID=Europe/Berlin:20191009T170000
DTSTAMP:20260422T113646
CREATED:20190903T133522Z
LAST-MODIFIED:20190927T110922Z
UID:22806-1570438800-1570640400@www.bfw-nb.de
SUMMARY:Der BFW auf der EXPO REAL 2019
DESCRIPTION:Vom 7. &#8211; 9. Oktober trifft sich die Branche auf der bedeutendsten Immobilienmesse Deutschlands\, der EXPO REAL in München. Der BFW ist wieder als Mitaussteller auf dem BID Gemeinschaftsstand vertreten. Neben den BID Mitgliedsverbänden präsentieren sich ausgewählte Partner aus Industrie und Wissenschaft. \nTreffen Sie uns auf der EXPO REAL 2019 vom 07. &#8211; 09. Oktober 2019\, BID-Stand 220 in Halle B2.\n\nDas detaillierte Standprogramm finden Sie hier. \n
URL:https://www.bfw-nb.de/aktivitaeten/veranstaltungen/22806-der-bfw-auf-der-expo-real-2019/
LOCATION:Messe München\, Messegelände\, München\, 81823\, Deutschland
CATEGORIES:Messe
ATTACH;FMTTYPE=image/jpeg:https://www.bfw-nb.de/wp-content/uploads/2019/09/BID-ExpoReal-2017-112_3055106_5346749_8340085_2974830_3277740_6640149_7899334-scaled.jpg
ORGANIZER;CN="BFW%20Bundesverband%20Freier%20Immobilien-%20und%20Wohnungsunternehmen%20e.V.":MAILTO:office@bfw-bund.de
GEO:48.1398525;11.7002356
X-APPLE-STRUCTURED-LOCATION;VALUE=URI;X-ADDRESS=Messe München Messegelände München 81823 Deutschland;X-APPLE-RADIUS=500;X-TITLE=Messegelände:geo:11.7002356,48.1398525
END:VEVENT
END:VCALENDAR