BEGIN:VCALENDAR
VERSION:2.0
PRODID:-//BFW Landesverband Niedersachsen/Bremen e.V. - ECPv5.0.2.1//NONSGML v1.0//EN
CALSCALE:GREGORIAN
METHOD:PUBLISH
X-WR-CALNAME:BFW Landesverband Niedersachsen/Bremen e.V.
X-ORIGINAL-URL:https://www.bfw-nb.de
X-WR-CALDESC:Veranstaltungen fÃ¼r BFW Landesverband Niedersachsen/Bremen e.V.
BEGIN:VTIMEZONE
TZID:Europe/Berlin
BEGIN:DAYLIGHT
TZOFFSETFROM:+0100
TZOFFSETTO:+0200
TZNAME:CEST
DTSTART:20190331T010000
END:DAYLIGHT
BEGIN:STANDARD
TZOFFSETFROM:+0200
TZOFFSETTO:+0100
TZNAME:CET
DTSTART:20191027T010000
END:STANDARD
END:VTIMEZONE
BEGIN:VEVENT
DTSTART;TZID=Europe/Berlin:20191017T090000
DTEND;TZID=Europe/Berlin:20191017T160000
DTSTAMP:20260422T100939
CREATED:20190917T231318Z
LAST-MODIFIED:20190917T231318Z
UID:22849-1571302800-1571328000@www.bfw-nb.de
SUMMARY:4. Fachforum Wohnungswirtschaft
DESCRIPTION:Ein zentrales Thema fÃ¼r die Wohnungswirtschaft ist die zunehmende Wohnungsnachfrage zu decken und die Energiewende im GebÃ¤udebereich umzusetzen. Wohnungsunternehmen mÃ¼ssen ihre Investitionen in den Neubau und den Wohnungsbestand enorm steigern\, um einen energieeffizienten und nahezu klimaneutralen GebÃ¤udebestand bis 2050 zu erzielen.\nWas kommt noch auf die Wohnungswirtschaft zu? Antworten hierauf erhalten Sie beim 4. Fachforum Wohnungswirtschaft 2019. \nWeitere Informationen finden Sie hier im Programm: \n\nProgramm_Fachforum_WoWi.pdf &ndash;  pdf\n   Datei ansehen &mdash; \n\n\n       Datei herunterladen  \n. \nAnmeldungen bitte Ã¼ber dieses Formular: \n\nEinladung_Fachforum.pdf &ndash;  pdf\n   Datei ansehen &mdash; \n\n\n       Datei herunterladen  \n. \n
URL:https://www.bfw-nb.de/aktivitaeten/veranstaltungen/22849-4-fachforum-wohnungswirtschaft/
LOCATION:Altes Rathaus Hannover\, GroÃŸer Festsaal\, KarmarschstraÃŸe 42\, Hannover \, 30159\, Deutschland
CATEGORIES:Aktuelle Termine
GEO:52.3711049;9.7362733
X-APPLE-STRUCTURED-LOCATION;VALUE=URI;X-ADDRESS=Altes Rathaus Hannover GroÃŸer Festsaal KarmarschstraÃŸe 42 Hannover  30159 Deutschland;X-APPLE-RADIUS=500;X-TITLE=KarmarschstraÃŸe 42:geo:9.7362733,52.3711049
END:VEVENT
END:VCALENDAR